BEGIN:VCALENDAR
VERSION:2.0
PRODID:-//Bluegrass Maker Map//Markets//EN
CALSCALE:GREGORIAN
METHOD:PUBLISH
X-WR-CALNAME:Sheltowee Artisan Spring Art Market
X-WR-TIMEZONE:America/New_York
REFRESH-INTERVAL;VALUE=DURATION:PT12H
X-PUBLISHED-TTL:PT12H
BEGIN:VEVENT
UID:sheltowee-artisan-spring-art-market-20260516@bluegrassmakermap.com
DTSTAMP:20260422T234613Z
DTSTART:20260516T140000Z
DTEND:20260516T210000Z
SUMMARY:Sheltowee Artisan Spring Art Market
LOCATION:The Center for Rural Development\, 2292 S Hwy 27 #300\, Somerset\
 , KY 42501\, KY
DESCRIPTION:Craft Fair · Entry: Free · Details: https://bluegrassmakermap.
 com/markets/sheltowee-artisan-spring-art-market
URL:https://bluegrassmakermap.com/markets/sheltowee-artisan-spring-art-mar
 ket
END:VEVENT
END:VCALENDAR
